BEGIN:VCALENDAR
VERSION:2.0
PRODID:-//Squarespace Inc/Squarespace 6//v6//EN
BEGIN:VEVENT
UID:5f3f1427da3fc12bce181165@squarespace.com
DTSTAMP:20200821T002640Z
DTSTART:20200906T000000Z
DTEND:20200906T113000Z
SUMMARY:Fathers Day at Souths
END:VEVENT
END:VCALENDAR
