BEGIN:VCALENDAR
VERSION:2.0
PRODID:-//Squarespace Inc/Squarespace 6//v6//EN
BEGIN:VEVENT
UID:5f966149d3bfb9134f03c276@squarespace.com
DTSTAMP:20201026T060021Z
DTSTART:20201031T070000Z
DTEND:20201031T130000Z
SUMMARY:Halloween Party at Souths!
END:VEVENT
END:VCALENDAR
