BEGIN:VCALENDAR
VERSION:2.0
PRODID:-//Squarespace Inc/Squarespace 6//v6//EN
BEGIN:VEVENT
UID:5fa2127c97ec03254a8ef974@squarespace.com
DTSTAMP:20201118T231723Z
DTSTART:20201101T000000Z
DTEND:20201231T123000Z
SUMMARY:Kiss 2020 Goodbye $25k Giveaway!
END:VEVENT
END:VCALENDAR
