BEGIN:VCALENDAR
VERSION:2.0
PRODID:-//Squarespace Inc/Squarespace 6//v6//EN
BEGIN:VEVENT
UID:5fc577204f98375720981d6a@squarespace.com
DTSTAMP:20201212T000634Z
DTSTART:20201130T230000Z
DTEND:20201212T135900Z
SUMMARY:12 Days of Souths Christmas Deals!
GEO:-21.159054;149.175529
LOCATION:Souths Mackay\, 181 Milton Street\, Mackay\, QLD\, 4740\, Australi
 a
END:VEVENT
END:VCALENDAR
