BEGIN:VCALENDAR
VERSION:2.0
PRODID:-//Squarespace Inc/Squarespace 6//v6//EN
BEGIN:VEVENT
UID:5f3b081f949d55355ed983b3@squarespace.com
DTSTAMP:20200817T224809Z
DTSTART:20200826T070000Z
DTEND:20200826T120000Z
SUMMARY:HORN v TSZYU | Watch it live at Souths Leagues Club
GEO:-21.159054;149.175529
LOCATION:Souths Leagues Club\, 181 Milton street\, South Mackay
END:VEVENT
END:VCALENDAR
