BEGIN:VCALENDAR
VERSION:2.0
PRODID:-//Squarespace Inc/Squarespace 6//v6//EN
BEGIN:VEVENT
UID:5e1549e4e19af80570fbe661@squarespace.com
DTSTAMP:20200108T033119Z
DTSTART:20200125T230000Z
DTEND:20200126T120000Z
SUMMARY:Australia Day at Souths Leagues Club
END:VEVENT
END:VCALENDAR
