BEGIN:VCALENDAR
VERSION:2.0
PRODID:-//Squarespace Inc/Squarespace 6//v6//EN
BEGIN:VEVENT
UID:5ff504473d6e43426a9afcb2@squarespace.com
DTSTAMP:20210115T001503Z
DTSTART:20210101T000000Z
DTEND:20210228T070000Z
SUMMARY:Bucks N Boat $25k Giveaway!
GEO:-21.159054;149.175529
LOCATION:Souths Mackay\, 181 Milton Street\, Mackay\, QLD\, 4740\, Australi
 a
END:VEVENT
END:VCALENDAR
