BEGIN:VCALENDAR
VERSION:2.0
PRODID:-//Squarespace Inc/Squarespace 6//v6//EN
BEGIN:VEVENT
UID:60121bae7e89bf5fc051f0c8@squarespace.com
DTSTAMP:20210203T234840Z
DTSTART:20210323T080000Z
DTEND:20210323T113000Z
SUMMARY:Easter Hamper Draws 2021
GEO:-21.159054;149.175529
LOCATION:Souths Mackay\, 181 Milton Street\, Mackay\, QLD\, 4740\, Australi
 a
END:VEVENT
END:VCALENDAR
