BEGIN:VCALENDAR
VERSION:2.0
PRODID:-//Squarespace Inc/Squarespace 6//v6//EN
BEGIN:VEVENT
UID:5e212efb44b0d30f4c83396f@squarespace.com
DTSTAMP:20200319T041341Z
DTSTART:20200324T080000Z
DTEND:20200324T113000Z
SUMMARY:Easter Hamper Giveaway - POSTPONED
END:VEVENT
END:VCALENDAR
