BEGIN:VCALENDAR
VERSION:2.0
PRODID:-//Squarespace Inc/Squarespace 6//v6//EN
BEGIN:VEVENT
UID:5f5acf0f48aa4a4b30bc45ac@squarespace.com
DTSTAMP:20200911T012331Z
DTSTART:20200930T090000Z
DTEND:20200930T100000Z
SUMMARY:End of Month $1000 draw September!
END:VEVENT
END:VCALENDAR
