BEGIN:VCALENDAR
VERSION:2.0
PRODID:-//Squarespace Inc/Squarespace 6//v6//EN
BEGIN:VEVENT
UID:603c59e5cfad7f515299363c@squarespace.com
DTSTAMP:20210301T030714Z
DTSTART:20210301T000000Z
DTEND:20210328T070000Z
SUMMARY:Money Storm $10k Giveaway
GEO:-21.159054;149.175529
LOCATION:Souths Mackay\, 181 Milton Street\, Mackay\, QLD\, 4740\, Australi
 a
END:VEVENT
END:VCALENDAR
