BEGIN:VCALENDAR
VERSION:2.0
PRODID:-//Squarespace Inc/Squarespace 6//v6//EN
BEGIN:VEVENT
UID:602ef698f38c1c28c59be176@squarespace.com
DTSTAMP:20210218T232541Z
DTSTART:20210227T063000Z
DTEND:20210227T103000Z
SUMMARY:Parker vs Fa
GEO:-21.159054;149.175529
LOCATION:Souths Mackay\, 181 Milton Street\, Mackay\, QLD\, 4740\, Australi
 a
END:VEVENT
END:VCALENDAR
