BEGIN:VCALENDAR
VERSION:2.0
PRODID:-//Squarespace Inc/Squarespace 6//v6//EN
BEGIN:VEVENT
UID:60121c5fde4b376cd3a44c7a@squarespace.com
DTSTAMP:20210203T235554Z
DTSTART:20210626T091500Z
DTEND:20210626T123000Z
SUMMARY:The Badboys are coming 2021
GEO:-21.159054;149.175529
LOCATION:Souths Mackay\, 181 Milton Street\, Mackay\, QLD\, 4740\, Australi
 a
END:VEVENT
END:VCALENDAR
