BEGIN:VCALENDAR
VERSION:2.0
PRODID:-//Squarespace Inc/Squarespace 6//v6//EN
BEGIN:VEVENT
UID:5fd1676feeaf2774ac802dc5@squarespace.com
DTSTAMP:20201210T001334Z
DTSTART:20210417T091500Z
DTEND:20210417T123000Z
SUMMARY:The BeachBoyz Tribute Show 2021
GEO:-21.159054;149.175529
LOCATION:Souths Mackay\, 181 Milton Street\, Mackay\, QLD\, 4740\, Australi
 a
END:VEVENT
END:VCALENDAR
