BEGIN:VCALENDAR
VERSION:2.0
PRODID:-//Squarespace Inc/Squarespace 6//v6//EN
BEGIN:VEVENT
UID:5fbb2d5c5779397619ea74ed@squarespace.com
DTSTAMP:20201123T033419Z
DTSTART:20201216T080000Z
DTEND:20201216T130000Z
SUMMARY:Tszyu v Morgan + Gallen v Hunt  |  Souths Sports bar
GEO:-21.159054;149.175529
LOCATION:Souths Mackay\, 181 Milton Street\, Mackay\, QLD\, 4740\, Australi
 a
END:VEVENT
END:VCALENDAR
