BEGIN:VCALENDAR
VERSION:2.0
PRODID:-//Squarespace Inc/Squarespace 6//v6//EN
BEGIN:VEVENT
UID:5e126e01a2cf815a65883f1c@squarespace.com
DTSTAMP:20200105T232427Z
DTSTART:20200119T030000Z
DTEND:20200119T060000Z
SUMMARY:UFC 246 - McGREGOR vs COWBOY
END:VEVENT
END:VCALENDAR
